BEGIN:VCALENDAR
VERSION:2.0
PRODID:-//DIGITAL FACTORY//EVENTS MAKER V1.6.11//EN
CALSCALE:GREGORIAN
BEGIN:VEVENT
DTEND:20161120T170000Z
UID:69eb6b6078ca7
DTSTAMP:20260424T130848Z
CATEGORIES:Concert
LOCATION:The Mod Club Theatre 722 College Street, Toronto, ON, M6G 1C5, CA
DESCRIPTION:MunizO have won also the semifinals of indie WEEK Canada 2016 and are competing at the FINALS at the Mod Club Theatre!!  This is gonna be a judged showcase. The prize is to be one of the headliners of indie WEEK Europe 2017.    NOVEMBER 20 (Sun)  @MOD CLUB THEATRE  Doors: 7pm • $10  7:00-7:15 The Corks (SAT Cameron House)  7:30-7:45 Samara York (SAT The Painted Lady)  8:00-8:15 RiFF Trailer – Film Award  8:30-8:45 Dick Rodan (SAT Velvet Underground)  RiFF Best Music Video  9:00-9:15 #FamilyGrind (SAT The Bovine)  9:30-9:45 Fade Awaays (SAT The Drake)  RiFF Best Short  10:00-10:15 Them&Us (Sat Nocturne)  10:30-10:45 MunizO (Sat Cherry Cola’s)  11:00-11:15 Moon Tan (SAT Mod Club)  Best Feature  11:30-12:10 WUZI (UK) – IWEU WINNERS  Announce – Best of Fest      Indie Week is an independent music festival founded in Toronto in 2003. After 6 years of great success in Ireland\, Indie Week Europe expanded in 2015 with Manchester\, UK as its new host city. Indie Week Canada is a one of a kind experience. Emerging artists perform in front of the music industry elite for a chance to win the “Best of the Fest”\, and the grand prize of a trip to Manchester to headline Indie Week Europe 2017. Indie Week Canada also hosts a conference called Indie101\, featuring panels in social media\, tech\, music and more\, plus industry mixers\, after show parties and demo listening sessions.  More details: http://canada.indieweek.com/
URL;VALUE=URI:http://munizo.com/events/concert/munizo-indie-week-canada-finals/
SUMMARY:MunizO at Indie Week Canada FINALS!
DTSTART:20161120T093000Z
END:VEVENT
END:VCALENDAR
